BEGIN:VCALENDAR
VERSION:2.0
PRODID:GIGPRESS 2.0 WORDPRESS PLUGIN
CALSCALE:GREGORIAN
X-WR-TIMEZONE:Etc/GMT
METHOD:PUBLISH
BEGIN:VTIMEZONE
TZID:GMT
BEGIN:STANDARD
DTSTART:20071028T010000
TZOFFSETTO:+0000
TZOFFSETFROM:+0000
END:STANDARD
END:VTIMEZONE
BEGIN:VEVENT
SUMMARY:Sven van Thom \, TSM im Kulturhaus
DESCRIPTION:Kosten: 28\,10. Anmerkungen: „Es klatscht gleich" – Tiere streicheln Menschen mit neuem Programm All Ages
LOCATION:TSM im Kulturhaus\, Karl-Marx-Str. 103\, Neuruppin\, DE
UID:20261127T190000Z-655-kontakt@loobmusik.de
URL:https://www.svenvanthom.de
DTSTART;VALUE=DATE-TIME;TZID=GMT:20261127T190000Z
DTEND;VALUE=DATE-TIME;TZID=GMT:20261127T190000Z
DTSTAMP:20260420T102746Z
END:VEVENT
END:VCALENDAR