BEGIN:VCALENDAR
VERSION:2.0
PRODID:GIGPRESS 2.0 WORDPRESS PLUGIN
CALSCALE:GREGORIAN
X-WR-TIMEZONE:Etc/GMT
METHOD:PUBLISH
BEGIN:VTIMEZONE
TZID:GMT
BEGIN:STANDARD
DTSTART:20071028T010000
TZOFFSETTO:+0000
TZOFFSETFROM:+0000
END:STANDARD
END:VTIMEZONE
BEGIN:VEVENT
SUMMARY:Sven van Thom \, Ursprung
DESCRIPTION:Kosten: 28\,20. Anmerkungen: „Das schönste Lied der Welt und andere Lügen" – neues Programm fürs erwachsene Publikum All Ages
LOCATION:Ursprung\, Alter Markt 16\, Rostock\, DE
UID:20261001T180000Z-654-kontakt@loobmusik.de
URL:https://www.svenvanthom.de
DTSTART;VALUE=DATE-TIME;TZID=GMT:20261001T180000Z
DTEND;VALUE=DATE-TIME;TZID=GMT:20261001T180000Z
DTSTAMP:20260420T102018Z
END:VEVENT
END:VCALENDAR