BEGIN:VCALENDAR
VERSION:2.0
PRODID:GIGPRESS 2.0 WORDPRESS PLUGIN
CALSCALE:GREGORIAN
X-WR-TIMEZONE:Etc/GMT
METHOD:PUBLISH
BEGIN:VTIMEZONE
TZID:GMT
BEGIN:STANDARD
DTSTART:20071028T010000
TZOFFSETTO:+0000
TZOFFSETFROM:+0000
END:STANDARD
END:VTIMEZONE
BEGIN:VEVENT
SUMMARY:Sven van Thom \, Mousonturm
DESCRIPTION:Kosten: € 25\,-. Anmerkungen: „Das schönste Lied der Welt und andere Lügen" – neues Programm fürs erwachsene Publikum All Ages
LOCATION:Mousonturm\, Waldschmidtstraße 4\, Frankfurt\, DE
UID:20261030T190000Z-653-kontakt@loobmusik.de
URL:https://www.svenvanthom.de
DTSTART;VALUE=DATE-TIME;TZID=GMT:20261030T190000Z
DTEND;VALUE=DATE-TIME;TZID=GMT:20261030T190000Z
DTSTAMP:20260420T112829Z
END:VEVENT
END:VCALENDAR