BEGIN:VCALENDAR
VERSION:2.0
PRODID:GIGPRESS 2.0 WORDPRESS PLUGIN
CALSCALE:GREGORIAN
X-WR-TIMEZONE:Etc/GMT
METHOD:PUBLISH
BEGIN:VTIMEZONE
TZID:GMT
BEGIN:STANDARD
DTSTART:20071028T010000
TZOFFSETTO:+0000
TZOFFSETFROM:+0000
END:STANDARD
END:VTIMEZONE
BEGIN:VEVENT
SUMMARY:Sven van Thom \, TSM in der Hillerschen Villa
DESCRIPTION:Kosten: ab € 13\,-. Anmerkungen: Tiere streicheln Menschen / Die Actionlesung mit Gotti und Sven van Thom All Ages
LOCATION:TSM in der Hillerschen Villa\, Klieneberger Platz 1\, Zittau\, DE
UID:20260424T180000Z-641-kontakt@loobmusik.de
URL:https://www.svenvanthom.de
DTSTART;VALUE=DATE-TIME;TZID=GMT:20260424T180000Z
DTEND;VALUE=DATE-TIME;TZID=GMT:20260424T180000Z
DTSTAMP:20260420T102746Z
END:VEVENT
END:VCALENDAR