BEGIN:VCALENDAR
VERSION:2.0
X-WR-CALNAME: Sven van Thom unterwegs
PRODID:GIGPRESS 2.0 WORDPRESS PLUGIN
CALSCALE:GREGORIAN
X-WR-TIMEZONE:Etc/GMT
METHOD:PUBLISH
BEGIN:VTIMEZONE
TZID:GMT
BEGIN:STANDARD
DTSTART:20071028T010000
TZOFFSETTO:+0000
TZOFFSETFROM:+0000
END:STANDARD
END:VTIMEZONE
BEGIN:VEVENT
SUMMARY:Sven van Thom \, TSM in der Hillerschen Villa
DESCRIPTION:Kosten: ab € 13\,-. Anmerkungen: Tiere streicheln Menschen / Die Actionlesung mit Gotti und Sven van Thom All Ages
LOCATION:TSM in der Hillerschen Villa\, Klieneberger Platz 1\, Zittau\, DE
UID:20260424T180000Z-641-kontakt@loobmusik.de
URL:https://www.svenvanthom.de
DTSTART;VALUE=DATE-TIME;TZID=GMT:20260424T180000Z
DTEND;VALUE=DATE-TIME;TZID=GMT:20260424T180000Z
DTSTAMP:20260420T102204Z
END:VEVENT
BEGIN:VEVENT
SUMMARY:Sven van Thom \, TSM im Steinhaus
DESCRIPTION:Kosten: ab € 17\,-. Anmerkungen: Tiere streicheln Menschen / Die Actionlesung mit Gotti und Sven van Thom All Ages
LOCATION:TSM im Steinhaus\, Steinstraße 37\, Bautzen\, DE
UID:20260425T180000Z-642-kontakt@loobmusik.de
URL:https://www.svenvanthom.de
DTSTART;VALUE=DATE-TIME;TZID=GMT:20260425T180000Z
DTEND;VALUE=DATE-TIME;TZID=GMT:20260425T180000Z
DTSTAMP:20260420T102204Z
END:VEVENT
BEGIN:VEVENT
SUMMARY:Sven van Thom \, Schmidtchen Theater. Reeperbahn
DESCRIPTION:Kosten: € 23\,-. Anmerkungen: Ich krieg' nie genug – Das Sven van Thom Kinderkonzert\, im Duo mit Dominik Merscheid All Ages
LOCATION:Schmidtchen Theater. Reeperbahn\, Spielbudenplatz 21-22\, Hamburg\, DE
UID:20260614T120000Z-638-kontakt@loobmusik.de
URL:https://www.svenvanthom.de
DTSTART;VALUE=DATE-TIME;TZID=GMT:20260614T120000Z
DTEND;VALUE=DATE-TIME;TZID=GMT:20260614T120000Z
DTSTAMP:20260420T102204Z
END:VEVENT
BEGIN:VEVENT
SUMMARY:Sven van Thom \, TSM in der Freilichtbühne Weißensee
DESCRIPTION:Kosten: € 25\,-. Anmerkungen: „Es klatscht gleich" – Tiere streicheln Menschen mit neuem Programm All Ages
LOCATION:TSM in der Freilichtbühne Weißensee\, Große Seestraße 9\, Berlin\, DE
UID:20260718T173000Z-643-kontakt@loobmusik.de
URL:https://www.svenvanthom.de
DTSTART;VALUE=DATE-TIME;TZID=GMT:20260718T173000Z
DTEND;VALUE=DATE-TIME;TZID=GMT:20260718T173000Z
DTSTAMP:20260420T102204Z
END:VEVENT
BEGIN:VEVENT
SUMMARY:Sven van Thom \, TSM im Küsselhof
DESCRIPTION:Kosten: € 20\,-. Anmerkungen: „Es klatscht gleich" – Tiere streicheln Menschen mit neuem Programm All Ages
LOCATION:TSM im Küsselhof\, Küsselhof 1\, Boock\, DE
UID:20260719T173000Z-644-kontakt@loobmusik.de
URL:https://www.svenvanthom.de
DTSTART;VALUE=DATE-TIME;TZID=GMT:20260719T173000Z
DTEND;VALUE=DATE-TIME;TZID=GMT:20260719T173000Z
DTSTAMP:20260420T102204Z
END:VEVENT
BEGIN:VEVENT
SUMMARY:Sven van Thom \, TSM im Klostergarten
DESCRIPTION:Kosten: € 28\,20. Anmerkungen: „Es klatscht gleich" – Tiere streicheln Menschen mit neuem Programm All Ages
LOCATION:TSM im Klostergarten\, Klosterhof 1\, Rostock\, DE
UID:20260724T180000Z-645-kontakt@loobmusik.de
URL:https://www.svenvanthom.de
DTSTART;VALUE=DATE-TIME;TZID=GMT:20260724T180000Z
DTEND;VALUE=DATE-TIME;TZID=GMT:20260724T180000Z
DTSTAMP:20260420T102204Z
END:VEVENT
BEGIN:VEVENT
SUMMARY:Sven van Thom \, TSM im St. Spiritus
DESCRIPTION:Anmerkungen: „Es klatscht gleich" – Tiere streicheln Menschen mit neuem Programm All Ages
LOCATION:TSM im St. Spiritus\, Lange Straße 49/51\, Greifswald\, DE
UID:20260725T180000Z-646-kontakt@loobmusik.de
URL:https://www.svenvanthom.de
DTSTART;VALUE=DATE-TIME;TZID=GMT:20260725T180000Z
DTEND;VALUE=DATE-TIME;TZID=GMT:20260725T180000Z
DTSTAMP:20260420T102204Z
END:VEVENT
BEGIN:VEVENT
SUMMARY:Sven van Thom \, St. Spiritus
DESCRIPTION:Kosten: ab € 20\,30. Anmerkungen: Das schönste Lied der Welt und andere Lügen / Sven van Thom Solo All Ages
LOCATION:St. Spiritus\, Langestraße 49/51\, Greifswald\, DE
UID:20260917T180000Z-651-kontakt@loobmusik.de
URL:https://www.svenvanthom.de
DTSTART;VALUE=DATE-TIME;TZID=GMT:20260917T180000Z
DTEND;VALUE=DATE-TIME;TZID=GMT:20260917T180000Z
DTSTAMP:20260420T102204Z
END:VEVENT
BEGIN:VEVENT
SUMMARY:Sven van Thom \, Frannz Club
DESCRIPTION:Kosten: € 25\,-. Anmerkungen: Das schönste Lied der Welt und andere Lügen / Sven van Thom Solo All Ages
LOCATION:Frannz Club\, Schönhauser Allee 36\, Berlin\, DE
UID:20260918T180000Z-652-kontakt@loobmusik.de
URL:https://www.svenvanthom.de
DTSTART;VALUE=DATE-TIME;TZID=GMT:20260918T180000Z
DTEND;VALUE=DATE-TIME;TZID=GMT:20260918T180000Z
DTSTAMP:20260420T102204Z
END:VEVENT
BEGIN:VEVENT
SUMMARY:Sven van Thom \, Schmidtchen Theater. Reeperbahn
DESCRIPTION:Kosten: ab € 21\,-. Anmerkungen: Solo-Tour „Das schönste Lied der Welt und andere Lügen" All Ages
LOCATION:Schmidtchen Theater. Reeperbahn\, Spielbudenplatz 21-22\, Hamburg\, DE
UID:20260925T170000Z-656-kontakt@loobmusik.de
URL:https://www.svenvanthom.de
DTSTART;VALUE=DATE-TIME;TZID=GMT:20260925T170000Z
DTEND;VALUE=DATE-TIME;TZID=GMT:20260925T170000Z
DTSTAMP:20260420T102204Z
END:VEVENT
BEGIN:VEVENT
SUMMARY:Sven van Thom \, Ursprung
DESCRIPTION:Kosten: 28\,20. Anmerkungen: „Das schönste Lied der Welt und andere Lügen" – neues Programm fürs erwachsene Publikum All Ages
LOCATION:Ursprung\, Alter Markt 16\, Rostock\, DE
UID:20261001T180000Z-654-kontakt@loobmusik.de
URL:https://www.svenvanthom.de
DTSTART;VALUE=DATE-TIME;TZID=GMT:20261001T180000Z
DTEND;VALUE=DATE-TIME;TZID=GMT:20261001T180000Z
DTSTAMP:20260420T102204Z
END:VEVENT
BEGIN:VEVENT
SUMMARY:Sven van Thom \, Zickengang
DESCRIPTION:Anmerkungen: Das schönste Lied der Welt und andere Lügen / Sven van Thom Solo All Ages
LOCATION:Zickengang\, Brandenburger Str. 92\, Golzow\, DE
UID:20261002T180000Z-658-kontakt@loobmusik.de
URL:https://www.svenvanthom.de
DTSTART;VALUE=DATE-TIME;TZID=GMT:20261002T180000Z
DTEND;VALUE=DATE-TIME;TZID=GMT:20261002T180000Z
DTSTAMP:20260420T102204Z
END:VEVENT
BEGIN:VEVENT
SUMMARY:Sven van Thom \, Moritzhof
DESCRIPTION:Kosten: ab € 18\,-. Anmerkungen: Das schönste Lied der Welt und andere Lügen / Sven van Thom Solo All Ages
LOCATION:Moritzhof\, Magdeburg\, DE
UID:20261003T180000Z-657-kontakt@loobmusik.de
URL:https://www.svenvanthom.de
DTSTART;VALUE=DATE-TIME;TZID=GMT:20261003T180000Z
DTEND;VALUE=DATE-TIME;TZID=GMT:20261003T180000Z
DTSTAMP:20260420T102204Z
END:VEVENT
BEGIN:VEVENT
SUMMARY:Sven van Thom \, Mousonturm
DESCRIPTION:Kosten: € 25\,-. Anmerkungen: „Das schönste Lied der Welt und andere Lügen" – neues Programm fürs erwachsene Publikum All Ages
LOCATION:Mousonturm\, Waldschmidtstraße 4\, Frankfurt\, DE
UID:20261030T190000Z-653-kontakt@loobmusik.de
URL:https://www.svenvanthom.de
DTSTART;VALUE=DATE-TIME;TZID=GMT:20261030T190000Z
DTEND;VALUE=DATE-TIME;TZID=GMT:20261030T190000Z
DTSTAMP:20260420T102204Z
END:VEVENT
BEGIN:VEVENT
SUMMARY:Sven van Thom \, TSM im Kulturhaus
DESCRIPTION:Kosten: 28\,10. Anmerkungen: „Es klatscht gleich" – Tiere streicheln Menschen mit neuem Programm All Ages
LOCATION:TSM im Kulturhaus\, Karl-Marx-Str. 103\, Neuruppin\, DE
UID:20261127T190000Z-655-kontakt@loobmusik.de
URL:https://www.svenvanthom.de
DTSTART;VALUE=DATE-TIME;TZID=GMT:20261127T190000Z
DTEND;VALUE=DATE-TIME;TZID=GMT:20261127T190000Z
DTSTAMP:20260420T102204Z
END:VEVENT
BEGIN:VEVENT
SUMMARY:Sven van Thom \, TSM in den Wühlmäusen
DESCRIPTION:Anmerkungen: „Es klatscht gleich" – Tiere streicheln Menschen mit neuem Programm All Ages
LOCATION:TSM in den Wühlmäusen\, Pommernallee 2-3\, Berlin\, DE
UID:20270302T190000Z-648-kontakt@loobmusik.de
URL:https://www.svenvanthom.de
DTSTART;VALUE=DATE-TIME;TZID=GMT:20270302T190000Z
DTEND;VALUE=DATE-TIME;TZID=GMT:20270302T190000Z
DTSTAMP:20260420T102204Z
END:VEVENT
BEGIN:VEVENT
SUMMARY:Sven van Thom \, TSM in den Wühlmäusen
DESCRIPTION:Kosten: € 30\,-. Anmerkungen: „Es klatscht gleich" – Tiere streicheln Menschen mit neuem Programm All Ages
LOCATION:TSM in den Wühlmäusen\, Pommernallee 2-3\, Berlin\, DE
UID:20270303T190000Z-647-kontakt@loobmusik.de
URL:https://www.svenvanthom.de
DTSTART;VALUE=DATE-TIME;TZID=GMT:20270303T190000Z
DTEND;VALUE=DATE-TIME;TZID=GMT:20270303T190000Z
DTSTAMP:20260420T102204Z
END:VEVENT
BEGIN:VEVENT
SUMMARY:Sven van Thom \, TSM in den Wühlmäusen
DESCRIPTION:Anmerkungen: „Es klatscht gleich" – Tiere streicheln Menschen mit neuem Programm All Ages
LOCATION:TSM in den Wühlmäusen\, Pommernallee 2-3\, Berlin\, DE
UID:20270304T190000Z-649-kontakt@loobmusik.de
URL:https://www.svenvanthom.de
DTSTART;VALUE=DATE-TIME;TZID=GMT:20270304T190000Z
DTEND;VALUE=DATE-TIME;TZID=GMT:20270304T190000Z
DTSTAMP:20260420T102204Z
END:VEVENT
END:VCALENDAR